BEGIN:VCALENDAR
VERSION:2.0
PRODID:-//Global Women - ECPv6.15.18//NONSGML v1.0//EN
CALSCALE:GREGORIAN
METHOD:PUBLISH
X-WR-CALNAME:Global Women
X-ORIGINAL-URL:https://globalwomen.org.nz
X-WR-CALDESC:Events for Global Women
REFRESH-INTERVAL;VALUE=DURATION:PT1H
X-Robots-Tag:noindex
X-PUBLISHED-TTL:PT1H
BEGIN:VTIMEZONE
TZID:Pacific/Auckland
BEGIN:STANDARD
TZOFFSETFROM:+1300
TZOFFSETTO:+1200
TZNAME:NZST
DTSTART:20250405T140000
END:STANDARD
BEGIN:DAYLIGHT
TZOFFSETFROM:+1200
TZOFFSETTO:+1300
TZNAME:NZDT
DTSTART:20250927T140000
END:DAYLIGHT
BEGIN:STANDARD
TZOFFSETFROM:+1300
TZOFFSETTO:+1200
TZNAME:NZST
DTSTART:20260404T140000
END:STANDARD
BEGIN:DAYLIGHT
TZOFFSETFROM:+1200
TZOFFSETTO:+1300
TZNAME:NZDT
DTSTART:20260926T140000
END:DAYLIGHT
BEGIN:STANDARD
TZOFFSETFROM:+1300
TZOFFSETTO:+1200
TZNAME:NZST
DTSTART:20270403T140000
END:STANDARD
BEGIN:DAYLIGHT
TZOFFSETFROM:+1200
TZOFFSETTO:+1300
TZNAME:NZDT
DTSTART:20270925T140000
END:DAYLIGHT
END:VTIMEZONE
BEGIN:VEVENT
DTSTART;TZID=Pacific/Auckland:20260527T130000
DTEND;TZID=Pacific/Auckland:20260527T143000
DTSTAMP:20260421T020852
CREATED:20260420T030606Z
LAST-MODIFIED:20260420T030628Z
UID:27580-1779886800-1779892200@globalwomen.org.nz
SUMMARY:Power Circle Speed Networking
DESCRIPTION:Join us in Auckland for a fun and energising Power Circle Speed Networking event\, designed to help you build genuine connections with fellow members and get more value from your membership. \nThis is your chance to expand your network\, meet inspiring wāhine from across the Power Circle community\, and discover new ways Power Circle can support you to Own Your Own Growth. \n  \nWhat’s in store: \n\nBe inspired by one of our own Power Circle members as she shares her leadership journey and insights\nGuided speed networking with conversation prompts to make connecting easy and meaningful\nTime to continue conversations and connect more deeply in a relaxed setting\nA light lunch to keep you fuelled and ready to network\n\n  \nWhether you’re new to Power Circle or have joined a networking event before\, this is a brilliant opportunity to strengthen relationships and make the most of your membership. \nWe can’t wait to see you there!
URL:https://globalwomen.org.nz/event/power-circle-speed-networking/
LOCATION:Auckland TBC
ATTACH;FMTTYPE=image/png:https://globalwomen.org.nz/wp-content/uploads/2026/04/Online-Mentoring-Circles-Tile-e1776376133542.png
END:VEVENT
END:VCALENDAR