BEGIN:VCALENDAR
VERSION:2.0
PRODID:-//Global Women - ECPv6.15.18//NONSGML v1.0//EN
CALSCALE:GREGORIAN
METHOD:PUBLISH
X-WR-CALNAME:Global Women
X-ORIGINAL-URL:https://globalwomen.org.nz
X-WR-CALDESC:Events for Global Women
REFRESH-INTERVAL;VALUE=DURATION:PT1H
X-Robots-Tag:noindex
X-PUBLISHED-TTL:PT1H
BEGIN:VTIMEZONE
TZID:Pacific/Auckland
BEGIN:STANDARD
TZOFFSETFROM:+1300
TZOFFSETTO:+1200
TZNAME:NZST
DTSTART:20250405T140000
END:STANDARD
BEGIN:DAYLIGHT
TZOFFSETFROM:+1200
TZOFFSETTO:+1300
TZNAME:NZDT
DTSTART:20250927T140000
END:DAYLIGHT
BEGIN:STANDARD
TZOFFSETFROM:+1300
TZOFFSETTO:+1200
TZNAME:NZST
DTSTART:20260404T140000
END:STANDARD
BEGIN:DAYLIGHT
TZOFFSETFROM:+1200
TZOFFSETTO:+1300
TZNAME:NZDT
DTSTART:20260926T140000
END:DAYLIGHT
BEGIN:STANDARD
TZOFFSETFROM:+1300
TZOFFSETTO:+1200
TZNAME:NZST
DTSTART:20270403T140000
END:STANDARD
BEGIN:DAYLIGHT
TZOFFSETFROM:+1200
TZOFFSETTO:+1300
TZNAME:NZDT
DTSTART:20270925T140000
END:DAYLIGHT
END:VTIMEZONE
BEGIN:VEVENT
DTSTART;TZID=Pacific/Auckland:20260513T160000
DTEND;TZID=Pacific/Auckland:20260513T173000
DTSTAMP:20260421T020852
CREATED:20260420T030450Z
LAST-MODIFIED:20260420T031349Z
UID:27569-1778688000-1778693400@globalwomen.org.nz
SUMMARY:Power Circle Online Mentoring Circle
DESCRIPTION:We’re delighted to be hosting two online mentoring circles this May and June\, created especially for our Power Circle wāhine. \nThese sessions offer a supportive space to connect\, reflect on real leadership challenges\, and draw on collective wisdom to strengthen your leadership journey. Together\, we’ll listen\, share\, and learn from one another in a way that is both meaningful and empowering. \nWe’ll be joined by experienced mentors who will help guide the conversations and ensure we make the most of our time together. Keep an eye on our socials for mentor announcements coming soon! \nThe dates are Wednesday 13 May & Tuesday 23 June. \nSpaces are limited to 40 per session\, so register now to secure your place! \n  \nPlease note that online meeting invites will be sent out to registered attendees prior to the session.
URL:https://globalwomen.org.nz/event/power-circle-mentoring-circle/
LOCATION:Online
CATEGORIES:Power Circle
ATTACH;FMTTYPE=image/jpeg:https://globalwomen.org.nz/wp-content/uploads/2026/04/Online-Mentoring-Circles-Tile-1-scaled-e1776654223123.jpg
END:VEVENT
END:VCALENDAR