BEGIN:VCALENDAR
VERSION:2.0
PRODID:-//Global Women - ECPv6.15.18//NONSGML v1.0//EN
CALSCALE:GREGORIAN
METHOD:PUBLISH
X-WR-CALNAME:Global Women
X-ORIGINAL-URL:https://globalwomen.org.nz
X-WR-CALDESC:Events for Global Women
REFRESH-INTERVAL;VALUE=DURATION:PT1H
X-Robots-Tag:noindex
X-PUBLISHED-TTL:PT1H
BEGIN:VTIMEZONE
TZID:Pacific/Auckland
BEGIN:STANDARD
TZOFFSETFROM:+1300
TZOFFSETTO:+1200
TZNAME:NZST
DTSTART:20250405T140000
END:STANDARD
BEGIN:DAYLIGHT
TZOFFSETFROM:+1200
TZOFFSETTO:+1300
TZNAME:NZDT
DTSTART:20250927T140000
END:DAYLIGHT
BEGIN:STANDARD
TZOFFSETFROM:+1300
TZOFFSETTO:+1200
TZNAME:NZST
DTSTART:20260404T140000
END:STANDARD
BEGIN:DAYLIGHT
TZOFFSETFROM:+1200
TZOFFSETTO:+1300
TZNAME:NZDT
DTSTART:20260926T140000
END:DAYLIGHT
BEGIN:STANDARD
TZOFFSETFROM:+1300
TZOFFSETTO:+1200
TZNAME:NZST
DTSTART:20270403T140000
END:STANDARD
BEGIN:DAYLIGHT
TZOFFSETFROM:+1200
TZOFFSETTO:+1300
TZNAME:NZDT
DTSTART:20270925T140000
END:DAYLIGHT
END:VTIMEZONE
BEGIN:VEVENT
DTSTART;TZID=Pacific/Auckland:20260317T150000
DTEND;TZID=Pacific/Auckland:20260317T170000
DTSTAMP:20260421T204731
CREATED:20260211T215046Z
LAST-MODIFIED:20260316T002245Z
UID:26112-1773759600-1773766800@globalwomen.org.nz
SUMMARY:CEO Summit: Exploring an Ethnic and Broader Diversity Theme
DESCRIPTION:This event is exclusive to Champions for Change. \nJoin us at our first Summit for 2026: \n\nDr Mai Chen – Implications of NZ changing demography on:\n\nWho is your customer/client/patient/stakeholder?\nWhat they want?\nHow they want that service or product delivered? How you communicate? How you consult?\nWho are best staff for that demography?\nHow to recruit them and what incentivises them?\nUnique challenges and issues – including the ethnic pay gap\n\n\nEthnic Pay Gap Reporting – A Case Study from ANZ\nBuilding the Infrastructure New Zealand Needs – and the Workforce to Deliver it – A Panel\nPaula Tesoriero\, former Paralympian\, and CEO of Whaikaha – Closing the Disability Employment Gap: Unlocking Talent\, Driving Growth\, and Building Inclusive Workplaces
URL:https://globalwomen.org.nz/event/champions-for-change-ceo-summit-leading-companies-that-reflect-our-customers-consumers-and-clients/
LOCATION:Aurecon\, Auckland\, Te Tihi 3/110 Carlton Gore Road\, Newmarket\, Auckland\, 1023\, New Zealand
CATEGORIES:Champions for Change
ATTACH;FMTTYPE=image/png:https://globalwomen.org.nz/wp-content/uploads/2026/02/Copy-of-CEO-Summit-Template-scaled.png
END:VEVENT
END:VCALENDAR